BEGIN:VCALENDAR
VERSION:2.0
PRODID:-//eventon.com NONSGML v1.0//EN
CALSCALE:GREGORIAN
METHOD:PUBLISH
BEGIN:VEVENT
UID:69e8eaeba8bca
DTSTAMP:20260422T153611Z
DTSTART:20260508
DTEND:20260509
LOCATION:
SUMMARY:Spring Festival
DESCRIPTION:\nhttps://www.gaysmills.gov/events/spring-festival/
URL:https://www.gaysmills.gov/events/spring-festival/
END:VEVENT
END:VCALENDAR